BEGIN:VCALENDAR
VERSION:2.0
PRODID:-//Art in Motion Dance - ECPv6.15.20//NONSGML v1.0//EN
CALSCALE:GREGORIAN
METHOD:PUBLISH
X-WR-CALNAME:Art in Motion Dance
X-ORIGINAL-URL:https://aimdance.org
X-WR-CALDESC:Events for Art in Motion Dance
REFRESH-INTERVAL;VALUE=DURATION:PT1H
X-Robots-Tag:noindex
X-PUBLISHED-TTL:PT1H
BEGIN:VTIMEZONE
TZID:America/New_York
BEGIN:DAYLIGHT
TZOFFSETFROM:-0500
TZOFFSETTO:-0400
TZNAME:EDT
DTSTART:20250309T070000
END:DAYLIGHT
BEGIN:STANDARD
TZOFFSETFROM:-0400
TZOFFSETTO:-0500
TZNAME:EST
DTSTART:20251102T060000
END:STANDARD
BEGIN:DAYLIGHT
TZOFFSETFROM:-0500
TZOFFSETTO:-0400
TZNAME:EDT
DTSTART:20260308T070000
END:DAYLIGHT
BEGIN:STANDARD
TZOFFSETFROM:-0400
TZOFFSETTO:-0500
TZNAME:EST
DTSTART:20261101T060000
END:STANDARD
BEGIN:DAYLIGHT
TZOFFSETFROM:-0500
TZOFFSETTO:-0400
TZNAME:EDT
DTSTART:20270314T070000
END:DAYLIGHT
BEGIN:STANDARD
TZOFFSETFROM:-0400
TZOFFSETTO:-0500
TZNAME:EST
DTSTART:20271107T060000
END:STANDARD
END:VTIMEZONE
BEGIN:VEVENT
DTSTART;TZID=America/New_York:20260629T090000
DTEND;TZID=America/New_York:20260702T153000
DTSTAMP:20260425T195757
CREATED:20260324T183244Z
LAST-MODIFIED:20260324T183244Z
UID:238588-1782723600-1783006200@aimdance.org
SUMMARY:Broadway Bound & Popstar Hip Hop Camp
DESCRIPTION:Cue the curtain and spotlight—it’s time to shine in our Broadway Bound Dance Camp! This camp celebrates the magic of musical theatre through high-energy dance\, dramatic flair\, and endless fun. Campers will wrap up the week with a sparkling showcase for families—featuring mini routines from beloved musicals where every dancer plays a starring role. Lights\, camera\, dance! In the afternoon\, step into the spotlight at our Popstar Dance Camp\, where campers learn to move\, groove\, and perform like the stars they were born to be. This energetic and confidence-boosting camp blends pop-inspired choreography with big stage personality in a fun\, kid-friendly setting. The week ends with a sparkling showcase where every camper gets to shine in the spotlight—complete with costumes\, cheers\, and plenty of “paparazzi” (AKA proud family members).
URL:https://aimdance.org/summer-event/broadway-bound-popstar-hip-hop-camp/
LOCATION:The Landon School\, 6101 Wilson Lane\, Bethesda\, MD\, 20817
ATTACH;FMTTYPE=image/jpeg:https://aimdance.org/wp-content/uploads/2026/03/Broadway-Bound-Popstar-Hip-Hop-Camp.jpg
END:VEVENT
BEGIN:VEVENT
DTSTART;TZID=America/New_York:20260629T093000
DTEND;TZID=America/New_York:20260702T123000
DTSTAMP:20260425T195757
CREATED:20260324T183051Z
LAST-MODIFIED:20260324T183051Z
UID:238549-1782725400-1782995400@aimdance.org
SUMMARY:Adventures with Elsa & Anna
DESCRIPTION:(3-6 yrs.) Join Elsa\, Anna\, Kristoff\, Olaf and Sven as they embark on a new journey to find out more about Elsa’s powers in this magical dance camp. This Art in Motion adventure is filled with amazing new songs\, beautiful dancing activities\, costumes and crafts. Ballerinas will perform a show on Friday. No camp July 3.
URL:https://aimdance.org/summer-event/adventures-with-elsa-anna/
LOCATION:Bull Run Elementary School\, 15301 US-29\, Centreville\, VA\, 20121
ATTACH;FMTTYPE=image/jpeg:https://aimdance.org/wp-content/uploads/2026/03/Adventures-with-Elsa-Anna.jpg
END:VEVENT
BEGIN:VEVENT
DTSTART;TZID=America/New_York:20260629T093000
DTEND;TZID=America/New_York:20260702T123000
DTSTAMP:20260425T195757
CREATED:20260324T183154Z
LAST-MODIFIED:20260324T183154Z
UID:238571-1782725400-1782995400@aimdance.org
SUMMARY:Magical Frozen Ballet Adventure Camp
DESCRIPTION:Join Elsa\, Anna\, Kristoff\, Olaf and Sven as they embark on a new journey to find out more about Elsa’s powers in this magical dance camp! The adventure is filled with amazing new songs\, beautiful dancing activities\, costumes and adorable crafts. A final performance on Friday will give the ballerinas a chance to show off all their hard work. Instructor: Art In Motion Dance.
URL:https://aimdance.org/summer-event/magical-frozen-ballet-adventure-camp/
LOCATION:McLean Community Center\, 1234 Ingleside Ave\, McLean\, VA\, 22101
ATTACH;FMTTYPE=image/jpeg:https://aimdance.org/wp-content/uploads/2026/03/Magical-Frozen-Ballet-Adventure-Camp.jpg
END:VEVENT
BEGIN:VEVENT
DTSTART;TZID=America/New_York:20260629T093000
DTEND;TZID=America/New_York:20260702T123000
DTSTAMP:20260425T195757
CREATED:20260324T183229Z
LAST-MODIFIED:20260324T183229Z
UID:238584-1782725400-1782995400@aimdance.org
SUMMARY:Rapunzels Tangled Dance Adventure Camp
DESCRIPTION:Join Rapunzel in this dance adventure camp! The adventure continues along with Flynn\, Maximus and Pascal. The adventure is filled with magical songs and dancing from the hit movie and TV series\, activities\, crafts\, costumes and props. We will discover all the magic and adventures in the land of Corona in this thrilling dance camp. Instructor: Art In Motion Dance
URL:https://aimdance.org/summer-event/rapunzels-tangled-dance-adventure-camp-3/
LOCATION:Stratford Landing Elementary School\, 8484 Riverside Rd\, Alexandria\, VA\, 22308
ATTACH;FMTTYPE=image/jpeg:https://aimdance.org/wp-content/uploads/2026/03/Rapunzels-Tangled-Dance-Adventure-Camp.jpg
END:VEVENT
BEGIN:VEVENT
DTSTART;TZID=America/New_York:20260629T130000
DTEND;TZID=America/New_York:20260702T160000
DTSTAMP:20260425T195757
CREATED:20260324T183053Z
LAST-MODIFIED:20260324T183053Z
UID:238551-1782738000-1783008000@aimdance.org
SUMMARY:K-Pop: Soda Pop Dance Camp
DESCRIPTION:(4-7 yrs) Unleash epic energy and fierce moves with Art in Motion\, where fantasy meets footwork and every dancer becomes a hero of the beat. This electrifying camp blends high-powered K-Pop choreography with playful storytelling inspired by epic battles\, bold characters\, and supernatural style. The week ends with a dramatic showcase featuring a group “battle performance” where every camper gets to shine on stage as part of the ultimate K-Pop hero squad. No camp July 3.
URL:https://aimdance.org/summer-event/k-pop-soda-pop-dance-camp/
LOCATION:Bull Run Elementary School\, 15301 US-29\, Centreville\, VA\, 20121
ATTACH;FMTTYPE=image/jpeg:https://aimdance.org/wp-content/uploads/2026/03/K-Pop_-Soda-Pop-Dance-Camp.jpg
END:VEVENT
BEGIN:VEVENT
DTSTART;TZID=America/New_York:20260629T130000
DTEND;TZID=America/New_York:20260702T160000
DTSTAMP:20260425T195757
CREATED:20260324T183143Z
LAST-MODIFIED:20260324T183143Z
UID:238568-1782738000-1783008000@aimdance.org
SUMMARY:Hip Hop Dance Camp
DESCRIPTION:NEW! Get ready to pop\, lock\, and break it down in our high-energy Hip Hop Groove Camp! This camp is bursting with attitude\, rhythm\, and fun—an unforgettable intro to the world of hip hop movement and culture. Whether your child is a first-time groover or a born performer\, this camp celebrates confidence\, creativity\, and the power of movement to bring joy. No tutus here—just sneakers\, attitude\, and endless good vibes. Instructor: Art In Motion Dance
URL:https://aimdance.org/summer-event/hip-hop-dance-camp/
LOCATION:McLean Community Center\, 1234 Ingleside Ave\, McLean\, VA\, 22101
ATTACH;FMTTYPE=image/jpeg:https://aimdance.org/wp-content/uploads/2026/03/Hip-Hop-Dance-Camp.jpg
END:VEVENT
BEGIN:VEVENT
DTSTART;TZID=America/New_York:20260629T130000
DTEND;TZID=America/New_York:20260702T160000
DTSTAMP:20260425T195757
CREATED:20260324T183228Z
LAST-MODIFIED:20260324T183228Z
UID:238583-1782738000-1783008000@aimdance.org
SUMMARY:Megastar Dance Camp
DESCRIPTION:(6-9 yrs.) Step into the spotlight in this Art in Motion camp and learn to move\, groove\, and perform like the stars they were born to be. This energetic and confidence-boosting camp blends pop-inspired choreography with big stage personality. The week ends with a sparkling showcase where every camper gets to shine in the spotlight—complete with costumes\, cheers\, and friends and family. No camp July 3.
URL:https://aimdance.org/summer-event/megastar-dance-camp-3/
LOCATION:Stratford Landing Elementary School\, 8484 Riverside Rd\, Alexandria\, VA\, 22308
ATTACH;FMTTYPE=image/jpeg:https://aimdance.org/wp-content/uploads/2026/03/Megastar.jpg
END:VEVENT
END:VCALENDAR