BEGIN:VCALENDAR
VERSION:2.0
PRODID:-//Art in Motion Dance - ECPv6.15.20//NONSGML v1.0//EN
CALSCALE:GREGORIAN
METHOD:PUBLISH
X-ORIGINAL-URL:https://aimdance.org
X-WR-CALDESC:Events for Art in Motion Dance
REFRESH-INTERVAL;VALUE=DURATION:PT1H
X-Robots-Tag:noindex
X-PUBLISHED-TTL:PT1H
BEGIN:VTIMEZONE
TZID:America/New_York
BEGIN:DAYLIGHT
TZOFFSETFROM:-0500
TZOFFSETTO:-0400
TZNAME:EDT
DTSTART:20250309T070000
END:DAYLIGHT
BEGIN:STANDARD
TZOFFSETFROM:-0400
TZOFFSETTO:-0500
TZNAME:EST
DTSTART:20251102T060000
END:STANDARD
BEGIN:DAYLIGHT
TZOFFSETFROM:-0500
TZOFFSETTO:-0400
TZNAME:EDT
DTSTART:20260308T070000
END:DAYLIGHT
BEGIN:STANDARD
TZOFFSETFROM:-0400
TZOFFSETTO:-0500
TZNAME:EST
DTSTART:20261101T060000
END:STANDARD
BEGIN:DAYLIGHT
TZOFFSETFROM:-0500
TZOFFSETTO:-0400
TZNAME:EDT
DTSTART:20270314T070000
END:DAYLIGHT
BEGIN:STANDARD
TZOFFSETFROM:-0400
TZOFFSETTO:-0500
TZNAME:EST
DTSTART:20271107T060000
END:STANDARD
END:VTIMEZONE
BEGIN:VEVENT
DTSTART;TZID=America/New_York:20260713T081500
DTEND;TZID=America/New_York:20260717T153000
DTSTAMP:20260425T211534
CREATED:20260324T183051Z
LAST-MODIFIED:20260324T183051Z
UID:238548-1783930500-1784302200@aimdance.org
SUMMARY:Wikedly Spellbound
DESCRIPTION:Step into a spellbinding world of music\, movement\, and magic at our “Wicked” Dance Camp! This enchanting adventure blends theatrical fun with dynamic dance styles. Inspired by the iconic story of witches\, wonder\, and friendship\, campers will channel their inner Elphaba and Glinda through expressive choreography and imaginative play. In partnership with Art in Motion
URL:https://aimdance.org/summer-event/wikedly-spellbound/
LOCATION:Academy of Holy Cross\, 4920 Strathmore Ave\, Kensington\, MD\, 20895
ATTACH;FMTTYPE=image/jpeg:https://aimdance.org/wp-content/uploads/2026/03/Wickedly-Spellbound.jpg
END:VEVENT
BEGIN:VEVENT
DTSTART;TZID=America/New_York:20260713T081500
DTEND;TZID=America/New_York:20260717T153000
DTSTAMP:20260425T211534
CREATED:20260324T183214Z
LAST-MODIFIED:20260324T183242Z
UID:238580-1783930500-1784302200@aimdance.org
SUMMARY:Shake It Off Dance Camp
DESCRIPTION:Get ready to shake the week away at our high-energy Dance Camp\, inspired by America’s favorite pop icon—Taylor Swift! Campers will learn exciting choreography to Taylor’s biggest hits like “You Belong With Me\,” “Blank Space\,” “Love Story\,” and “Shake It Off.” Alongside dancing\, they’ll create fun\, Taylor-inspired crafts to channel their inner superstar. The week culminates in a lively\, unforgettable performance you won’t want to miss. In partnership with Art in Motion.
URL:https://aimdance.org/summer-event/shake-it-off-dance-camp-4/
LOCATION:The Haverford School\, 450 Lancaster Ave\, Haverford\, PA\, 19041
ATTACH;FMTTYPE=image/jpeg:https://aimdance.org/wp-content/uploads/2026/03/Shake-It-Off-Dance-Camp.jpg
END:VEVENT
BEGIN:VEVENT
DTSTART;TZID=America/New_York:20260713T083000
DTEND;TZID=America/New_York:20260717T151500
DTSTAMP:20260425T211534
CREATED:20260324T183200Z
LAST-MODIFIED:20260324T183200Z
UID:238575-1783931400-1784301300@aimdance.org
SUMMARY:K-Pop Kidz Dance
DESCRIPTION:Unleash Your Inner Hero! Get ready to move\, groove\, and power up in our K-Pop Dance Camp! This high-energy experience combines dynamic K-Pop choreography with an epic story of heroes\, battles\, and supernatural style. Campers will dance to popular K-Pop hits like “Golden”\, “Soda Pop”\, and more\, while mastering fierce moves. By week’s end\, they’ll take the stage in a thrilling group “battle” performance—showcasing unstoppable teamwork and star power. Join the ultimate K-Pop hero squad and dance like a star! In partnership with Art in Motion
URL:https://aimdance.org/summer-event/k-pop-kidz-dance-3/
LOCATION:Riverdale Country School\, 5250 Fieldston Rd\, Bronx\, NY\, 10471
ATTACH;FMTTYPE=image/jpeg:https://aimdance.org/wp-content/uploads/2026/03/K-Pop-Kidz-Dance.jpg
END:VEVENT
BEGIN:VEVENT
DTSTART;TZID=America/New_York:20260713T090000
DTEND;TZID=America/New_York:20260717T153000
DTSTAMP:20260425T211534
CREATED:20260324T183243Z
LAST-MODIFIED:20260324T183243Z
UID:238587-1783933200-1784302200@aimdance.org
SUMMARY:AIM Dance Fusion Camp & A Wicked Good Time Dance Camp
DESCRIPTION:Unleash the rhythm\, grace\, and sparkle of your young dancer in our energetic Dance Fusion Camp! This dynamic week blends jazz\, ballet\, tap\, and lyrical styles—encouraging movement mastery and artistic expression in a fun\, inspiring setting. Dancers will also enjoy themed crafts\, light improvisation\, and choreography games that spark imagination and teamwork. Camp culminates in a heartwarming showcase for families\, where each dancer gets a chance to shine under the lights! In the afternoon\, NEW! Step into a spellbinding world of music\, movement\, and magic at our Wicked Dance Camp—a bewitching blend of theatrical fun and powerful dance styles for kids ages 6 to 9! Inspired by the iconic tale of witches\, wonder\, and friendship\, this camp invites dancers to channel their inner Elphaba and Glinda through expressive choreography and imaginative play. The magical week wraps up with a dazzling showcase for families\, where campers twirl and whirl through a feelgood performance that celebrates bravery\, friendship\, and fierce dance talent. Instructor: Art In Motion Dance
URL:https://aimdance.org/summer-event/aim-dance-fusion-camp-a-wicked-good-time-dance-camp/
LOCATION:The Landon School\, 6101 Wilson Lane\, Bethesda\, MD\, 20817
ATTACH;FMTTYPE=image/jpeg:https://aimdance.org/wp-content/uploads/2026/03/AIM-Dance-Fusion-Camp-A-Wicked-Good-Time-Dance-Camp.jpg
END:VEVENT
BEGIN:VEVENT
DTSTART;TZID=America/New_York:20260713T093000
DTEND;TZID=America/New_York:20260717T123000
DTSTAMP:20260425T211534
CREATED:20260324T183057Z
LAST-MODIFIED:20260324T183057Z
UID:238553-1783935000-1784291400@aimdance.org
SUMMARY:Magical World of Dance
DESCRIPTION:(4-7 yrs.) Join Art in Motion for a magical week of dance with your favorite characters from around the world. Don’t miss the chance to twirl with Elsa and Anna in Arendale\, dance under the sea with Ariel and Sebastian\, or take a “ride” on a magic carpet with Aladdin and Jasmine. Dancers will listen to their favorite songs with Rapunzel\, Belle\, Peter Pan and Lion King.
URL:https://aimdance.org/summer-event/magical-world-of-dance/
LOCATION:Colin Powell Elementary School\, 13340 Leland Rd\, Centreville\, VA\, 22033
ATTACH;FMTTYPE=image/jpeg:https://aimdance.org/wp-content/uploads/2026/03/Magical-World-of-Dance.jpg
END:VEVENT
BEGIN:VEVENT
DTSTART;TZID=America/New_York:20260713T093000
DTEND;TZID=America/New_York:20260717T123000
DTSTAMP:20260425T211534
CREATED:20260324T183112Z
LAST-MODIFIED:20260324T183112Z
UID:238557-1783935000-1784291400@aimdance.org
SUMMARY:Adventures with Elsa & Anna
DESCRIPTION:(3-6 yrs.) Join Elsa\, Anna\, Kristoff\, Olaf and Sven as they embark on a new journey to find out more about Elsa’s powers in this magical dance camp. This Art in Motion adventure is filled with amazing new songs\, beautiful dancing activities\, costumes and crafts. Ballerinas will perform a show on Friday.
URL:https://aimdance.org/summer-event/adventures-with-elsa-anna-2/
LOCATION:Garfield Elementary School\, 7101 Old Keene Mill Rd\, Springfield\, VA\, 22150
ATTACH;FMTTYPE=image/jpeg:https://aimdance.org/wp-content/uploads/2026/03/Adventures-with-Elsa-Anna.jpg
END:VEVENT
BEGIN:VEVENT
DTSTART;TZID=America/New_York:20260713T093000
DTEND;TZID=America/New_York:20260717T123000
DTSTAMP:20260425T211534
CREATED:20260324T183128Z
LAST-MODIFIED:20260324T183128Z
UID:238563-1783935000-1784291400@aimdance.org
SUMMARY:AIM Dance Fusion Camp
DESCRIPTION:New! Unleash the rhythm\, grace\, and sparkle of your young dancer in our energetic Dance Fusion Camp! Designed for ages 6–9\, this dynamic week blends jazz\, ballet\, tap\, and lyrical styles—encouraging movement mastery and artistic expression in a fun\, inspiring setting. Dancers will also enjoy themed crafts\, light improvisation\, and choreography games that spark imagination and teamwork. Camp culminates in a heartwarming showcase for families\, where each dancer gets a chance to shine under the lights! Instructor: Art In Motion Dance.
URL:https://aimdance.org/summer-event/aim-dance-fusion-camp/
LOCATION:McLean Community Center\, 1234 Ingleside Ave\, McLean\, VA\, 22101
ATTACH;FMTTYPE=image/jpeg:https://aimdance.org/wp-content/uploads/2026/03/AIM-Dance-Fusion-Camp.jpg
END:VEVENT
BEGIN:VEVENT
DTSTART;TZID=America/New_York:20260713T130000
DTEND;TZID=America/New_York:20260717T160000
DTSTAMP:20260425T211534
CREATED:20260324T183058Z
LAST-MODIFIED:20260324T183058Z
UID:238554-1783947600-1784304000@aimdance.org
SUMMARY:Megastar Dance Camp
DESCRIPTION:(6-9 yrs.) Step into the spotlight in this Art in Motion camp and learn to move\, groove\, and perform like the stars they were born to be. This energetic and confidence-boosting camp blends pop-inspired choreography with big stage personality. The week ends with a sparkling showcase where every camper gets to shine in the spotlight—complete with costumes\, cheers\, and friends and family. No camp July 3.
URL:https://aimdance.org/summer-event/megastar-dance-camp/
LOCATION:Colin Powell Elementary School\, 13340 Leland Rd\, Centreville\, VA\, 22033
ATTACH;FMTTYPE=image/jpeg:https://aimdance.org/wp-content/uploads/2026/03/Megastar.jpg
END:VEVENT
BEGIN:VEVENT
DTSTART;TZID=America/New_York:20260713T130000
DTEND;TZID=America/New_York:20260717T160000
DTSTAMP:20260425T211534
CREATED:20260324T183113Z
LAST-MODIFIED:20260324T183113Z
UID:238558-1783947600-1784304000@aimdance.org
SUMMARY:Cheer & Tumbling
DESCRIPTION:(6-9 yrs.) Flip\, cheer\, and soar through the week at Art in Motion’s action-packed camp where campers build strength\, spirit\, and confidence one cartwheel at a time. Campers showcase their pep and tumbling progress in a mini performance at the end of the week.
URL:https://aimdance.org/summer-event/cheer-tumbling/
LOCATION:Garfield Elementary School\, 7101 Old Keene Mill Rd\, Springfield\, VA\, 22150
ATTACH;FMTTYPE=image/jpeg:https://aimdance.org/wp-content/uploads/2026/03/Cheer-and-Tumbling-Camp.jpg
END:VEVENT
BEGIN:VEVENT
DTSTART;TZID=America/New_York:20260713T130000
DTEND;TZID=America/New_York:20260717T160000
DTSTAMP:20260425T211534
CREATED:20260324T183124Z
LAST-MODIFIED:20260324T183124Z
UID:238561-1783947600-1784304000@aimdance.org
SUMMARY:A Wicked Good Time Dance Camp
DESCRIPTION:NEW! Step into a spellbinding world of music\, movement\, and magic at our Wicked Dance Camp—a bewitching blend of theatrical fun and powerful dance styles for kids ages 6 to 9! Inspired by the iconic tale of witches\, wonder\, and friendship\, this camp invites dancers to channel their inner Elphaba and Glinda through expressive choreography and imaginative play. The magical week wraps up with a dazzling showcase for families\, where campers twirl and whirl through a feelgood performance that celebrates bravery\, friendship\, and fierce dance talent. Instructor: Art In Motion Dance
URL:https://aimdance.org/summer-event/a-wicked-good-time-dance-camp/
LOCATION:McLean Community Center\, 1234 Ingleside Ave\, McLean\, VA\, 22101
ATTACH;FMTTYPE=image/jpeg:https://aimdance.org/wp-content/uploads/2026/03/A-Wicked-Good-Time-Dance-Camp.jpg
END:VEVENT
END:VCALENDAR