BEGIN:VCALENDAR
VERSION:2.0
PRODID:-//Art in Motion Dance - ECPv6.15.20//NONSGML v1.0//EN
CALSCALE:GREGORIAN
METHOD:PUBLISH
X-WR-CALNAME:Art in Motion Dance
X-ORIGINAL-URL:https://aimdance.org
X-WR-CALDESC:Events for Art in Motion Dance
REFRESH-INTERVAL;VALUE=DURATION:PT1H
X-Robots-Tag:noindex
X-PUBLISHED-TTL:PT1H
BEGIN:VTIMEZONE
TZID:America/New_York
BEGIN:DAYLIGHT
TZOFFSETFROM:-0500
TZOFFSETTO:-0400
TZNAME:EDT
DTSTART:20240310T070000
END:DAYLIGHT
BEGIN:STANDARD
TZOFFSETFROM:-0400
TZOFFSETTO:-0500
TZNAME:EST
DTSTART:20241103T060000
END:STANDARD
BEGIN:DAYLIGHT
TZOFFSETFROM:-0500
TZOFFSETTO:-0400
TZNAME:EDT
DTSTART:20250309T070000
END:DAYLIGHT
BEGIN:STANDARD
TZOFFSETFROM:-0400
TZOFFSETTO:-0500
TZNAME:EST
DTSTART:20251102T060000
END:STANDARD
BEGIN:DAYLIGHT
TZOFFSETFROM:-0500
TZOFFSETTO:-0400
TZNAME:EDT
DTSTART:20260308T070000
END:DAYLIGHT
BEGIN:STANDARD
TZOFFSETFROM:-0400
TZOFFSETTO:-0500
TZNAME:EST
DTSTART:20261101T060000
END:STANDARD
END:VTIMEZONE
BEGIN:VEVENT
DTSTART;TZID=America/New_York:20250630T093000
DTEND;TZID=America/New_York:20250703T123000
DTSTAMP:20260426T001626
CREATED:20250423T172324Z
LAST-MODIFIED:20250509T184444Z
UID:237719-1751275800-1751545800@aimdance.org
SUMMARY:Family Madrigal Fantasy Dance Camp
DESCRIPTION:Our Encanto Ballet Dance Camp offers a vibrant and fun experience inspired by the magical world of the Madrigal family! Campers will learn the basics of ballet while dancing to themed music and choreography from the beloved Encanto movie. Whether they are new to dance or have some experience\, each dancer will have the opportunity to grow and improve.\nEach day includes dance instruction\, a daily craft\, a snack period\, show rehearsal\, and outdoor play (weather permitting). At the end of the week\, campers will showcase everything they’ve learned in a special Encanto-themed performance.\nDancers should bring a snack\, water bottle\, and a positive attitude\, and please remember to label all belongings. Join us for a week of dance and magic\, as we celebrate the spirit of Encanto!
URL:https://aimdance.org/summer-event/family-madrigal-fantasy-dance-camp-jpg-3/
LOCATION:Audrey Moore Rec Center\, 8100 Braddock Rd\, Annandale\, VA\, 22003
ATTACH;FMTTYPE=image/jpeg:https://aimdance.org/wp-content/uploads/2025/04/Family-Madrigal-Fantasy-Dance-Camp.jpg
END:VEVENT
BEGIN:VEVENT
DTSTART;TZID=America/New_York:20250623T130000
DTEND;TZID=America/New_York:20250627T160000
DTSTAMP:20260426T001626
CREATED:20250423T172227Z
LAST-MODIFIED:20250509T184444Z
UID:237702-1750683600-1751040000@aimdance.org
SUMMARY:Superhero Dance Camp
DESCRIPTION:Our Superhero dance Camp is the ultimate opportunity to step into the world of superhero moves and high-energy dance! Campers will learn cool hip hop moves and choreography while channeling their inner superhero\, discovering how to use dance to express power\, confidence\, and creativity. Whether they’re new to dance or have some experience\, they’ll have the chance to grow\, improve\, and truly become their own superhero on the dance floor.\nEach day includes dance instruction\, a daily craft\, a snack period\, show rehearsal\, and outdoor play (weather permitting). At the end of the week\, campers will showcase their superhero dance skills in a special performance.\nDancers should bring a snack\, water bottle\, and a positive attitude\, and please remember to label all belongings. Get ready to unleash your super moves and have an unforgettable week of fun and creativity!
URL:https://aimdance.org/summer-event/superhero-dance-camp-2/
LOCATION:McLean Community Center\, 1234 Ingleside Ave\, McLean\, VA\, 22101
ATTACH;FMTTYPE=image/jpeg:https://aimdance.org/wp-content/uploads/2025/04/Superhero-Dance-Camp.jpg
END:VEVENT
BEGIN:VEVENT
DTSTART;TZID=America/New_York:20250623T130000
DTEND;TZID=America/New_York:20250627T160000
DTSTAMP:20260426T001626
CREATED:20250423T172224Z
LAST-MODIFIED:20250509T184444Z
UID:237699-1750683600-1751040000@aimdance.org
SUMMARY:Barbieland Dance Camp
DESCRIPTION:Join us for this glamourous new dance camp as we celebrate all things\, Barbie! Your camper will love learning all their sassy dance routines\, creating the most adorable crafts\, and of course\, dressing up as the most iconic doll\, Barbie!
URL:https://aimdance.org/summer-event/barbieland-dance-camp-2/
LOCATION:Cherry Run Elementary\, 9732 Ironmaster Dr\, Burke\, VA\, 22015
ATTACH;FMTTYPE=image/jpeg:https://aimdance.org/wp-content/uploads/2025/04/Barbieland.jpg
END:VEVENT
BEGIN:VEVENT
DTSTART;TZID=America/New_York:20250623T130000
DTEND;TZID=America/New_York:20250627T160000
DTSTAMP:20260426T001626
CREATED:20250423T172220Z
LAST-MODIFIED:20250509T184444Z
UID:237697-1750683600-1751040000@aimdance.org
SUMMARY:Shake It Off Dance Camp
DESCRIPTION:Get ready to dance the week away to all your favorite Taylor Swift songs!   A whole week dedicated to America’s favorite Popstar.   Campers will learn dances to Taylor’s biggest hits including You Belong With Me\, Blank Space\, Love Story and Shake it Off\,  and will create Taylor- inspired Crafts.  We will end the week with an energy-filled performance that you won’t want to miss.  Sign up NOW to secure a spot in this exciting new dance camp!
URL:https://aimdance.org/summer-event/shake-it-off-dance-camp-jpg-2/
LOCATION:Greenbriar West Elementary School\, 13300 Poplar Tree Rd.\, Fairfax\, VA\, 22033
ATTACH;FMTTYPE=image/jpeg:https://aimdance.org/wp-content/uploads/2025/04/Shake-It-Off-Dance-Camp.jpg
END:VEVENT
BEGIN:VEVENT
DTSTART;TZID=America/New_York:20250623T093000
DTEND;TZID=America/New_York:20250627T123000
DTSTAMP:20260426T001626
CREATED:20250423T172310Z
LAST-MODIFIED:20250509T184710Z
UID:237715-1750671000-1751027400@aimdance.org
SUMMARY:Wonderful World of Dance
DESCRIPTION:Join us for a magical week of dance and fun with your favorite characters from around the world.  Don’t miss the chance to twirl with Elsa and Anna in Arendale\, dance under the sea with Ariel and Sebastian\, or take a “ride” on a magic carpet with Aladdin and Jasmine.  Dancers will listen to their favorite songs with Rapunzel\, Belle\, Peter Pan and all your all your cuddly favorites from Lion King.  Don’t miss your chance to dance with all these characters and so many more. Register today!
URL:https://aimdance.org/summer-event/wonderful-world-of-dance-jpg-2/
LOCATION:Greenbriar West Elementary School\, 13300 Poplar Tree Rd.\, Fairfax\, VA\, 22033
ATTACH;FMTTYPE=image/jpeg:https://aimdance.org/wp-content/uploads/2025/04/Wonderful-World-of-Dance.jpg
END:VEVENT
BEGIN:VEVENT
DTSTART;TZID=America/New_York:20250623T093000
DTEND;TZID=America/New_York:20250627T123000
DTSTAMP:20260426T001626
CREATED:20250423T172226Z
LAST-MODIFIED:20250509T184443Z
UID:237701-1750671000-1751027400@aimdance.org
SUMMARY:Rapunzel's Tangled Dance Adventure Camp
DESCRIPTION:Our Tangled Ballet Dance Camp is a magical adventure where dancers can explore the enchanting world of Rapunzel! Campers will learn the basics of ballet while dancing to themed music and choreography inspired by the beloved Tangled movie. Whether they are new to dance or have some experience\, each dancer will have the opportunity to grow and improve.\nEach day includes dance instruction\, a daily craft\, a snack period\, show rehearsal\, and outdoor play (weather permitting). At the end of the week\, campers will showcase everything they’ve learned in a special Tangled-themed performance.\nDancers should bring a snack\, water bottle\, and a positive attitude\, and please remember to label all belongings. Come join us for a week of dance and magic as we bring the world of Tangled to life!
URL:https://aimdance.org/summer-event/rapunzels-tangled-dance-adventure-camp-2/
LOCATION:McLean Community Center\, 1234 Ingleside Ave\, McLean\, VA\, 22101
ATTACH;FMTTYPE=image/jpeg:https://aimdance.org/wp-content/uploads/2025/04/Magical-Frozen-Ballet-Adventure-Camp.jpg
END:VEVENT
BEGIN:VEVENT
DTSTART;TZID=America/New_York:20250623T093000
DTEND;TZID=America/New_York:20250627T123000
DTSTAMP:20260426T001626
CREATED:20250423T172223Z
LAST-MODIFIED:20250509T184443Z
UID:237698-1750671000-1751027400@aimdance.org
SUMMARY:Adventure with Elsa and Anna Dance Camp
DESCRIPTION:Our Frozen Ballet Dance Camp is a magical experience where dancers can explore the enchanting world of Arendelle! Campers will learn the basics of ballet while enjoying themed music and choreography inspired by the beloved Frozen story. Whether they are new to dance or have some experience\, each dancer will have the chance to grow and learn while having a blast! Each day includes dance instruction\, a daily craft\, a snack period\, show rehearsal\, and outdoor play (weather permitting). At the end of the week\, campers will showcase everything they’ve learned in a special Frozen-themed performance.\nDancers should bring a snack\, water bottle\, and a positive attitude\, and please remember to label all belongings. Let’s bring the magic of Frozen to life through dance!
URL:https://aimdance.org/summer-event/adventure-with-elsa-and-anna-dance-camp-3/
LOCATION:Cherry Run Elementary\, 9732 Ironmaster Dr\, Burke\, VA\, 22015
ATTACH;FMTTYPE=image/jpeg:https://aimdance.org/wp-content/uploads/2025/04/Adventures-with-Elsa-Anna.jpg
END:VEVENT
BEGIN:VEVENT
DTSTART;TZID=America/New_York:20250623T090000
DTEND;TZID=America/New_York:20250627T153000
DTSTAMP:20260426T001626
CREATED:20250423T172225Z
LAST-MODIFIED:20250509T184443Z
UID:237700-1750669200-1751038200@aimdance.org
SUMMARY:Cheer and Tumbling/Shake it Off
DESCRIPTION:Get ready for a high-energy\, action-packed week at our Cheer and Tumbling Camp! Campers will have a blast using pom poms as they learn fun and catchy cheers\, all while building teamwork and confidence. For those new to tumbling\, it’s a great opportunity to learn the basics\, while more experienced tumblers will have a chance to practice their skills and take on new challenges.  In the afternoon\,\nGet ready to dance the week away to all your favorite Taylor Swift songs!   A whole week dedicated to America’s favorite Popstar.   Campers will learn dances to Taylor’s biggest hits including You Belong With Me\, Blank Space\, Love Story and Shake it Off\,  and will create Taylor- inspired Crafts.  We will end the week with an energy-filled performance that you won’t want to miss. 
URL:https://aimdance.org/summer-event/cheer-and-tumbling-shake-it-off-2/
LOCATION:The Landon School\, 6101 Wilson Lane\, Bethesda\, MD\, 20817
ATTACH;FMTTYPE=image/jpeg:https://aimdance.org/wp-content/uploads/2025/04/Cheer-and-Tumbling-Camp.jpg
END:VEVENT
BEGIN:VEVENT
DTSTART;TZID=America/New_York:20250616T123000
DTEND;TZID=America/New_York:20250620T153000
DTSTAMP:20260426T001626
CREATED:20250423T172219Z
LAST-MODIFIED:20250509T184443Z
UID:237696-1750077000-1750433400@aimdance.org
SUMMARY:Superhero Dance Adventure
DESCRIPTION:Our Superhero dance Camp is the ultimate opportunity to step into the world of superhero moves and high-energy dance! Campers will learn cool hip hop moves and choreography while channeling their inner superhero\, discovering how to use dance to express power\, confidence\, and creativity. Whether they’re new to dance or have some experience\, they’ll have the chance to grow\, improve\, and truly become their own superhero on the dance floor.\nEach day includes dance instruction\, a daily craft\, a snack period\, show rehearsal\, and outdoor play (weather permitting). At the end of the week\, campers will showcase their superhero dance skills in a special performance.\nDancers should bring a snack\, water bottle\, and a positive attitude\, and please remember to label all belongings. Get ready to unleash your super moves and have an unforgettable week of fun and creativity!
URL:https://aimdance.org/summer-event/superhero-dance-adventure-2/
LOCATION:The Landon School\, 6101 Wilson Lane\, Bethesda\, MD\, 20817
ATTACH;FMTTYPE=image/jpeg:https://aimdance.org/wp-content/uploads/2025/04/Superhero-Dance-Camp.jpg
END:VEVENT
BEGIN:VEVENT
DTSTART;TZID=America/New_York:20250616T090000
DTEND;TZID=America/New_York:20250620T120000
DTSTAMP:20260426T001626
CREATED:20250423T172218Z
LAST-MODIFIED:20250509T184443Z
UID:237695-1750064400-1750420800@aimdance.org
SUMMARY:Princess Party Dance Camp
DESCRIPTION:Your little dancer will love this camp as they listen to all their favorite songs from their favorite movies! In the morning\, campers will learn dances and dance techniques to the voices of different Princesses including\, Belle\, Ariel\, Elsa\, Sleeping Beauty\, Moana\, Elaena\, and more. Your camper is sure to come home with a smile every day as they tell you about all the new steps they’ve learned\, the adorable crafts they’ve made and the beautiful dresses they got to wear during the exciting dance adventure week. At the end of the week\, families are invited to campus for campers to share with you all of the things they learned throughout the week.
URL:https://aimdance.org/summer-event/princess-party-dance-camp-2/
LOCATION:The Landon School\, 6101 Wilson Lane\, Bethesda\, MD\, 20817
ATTACH;FMTTYPE=image/jpeg:https://aimdance.org/wp-content/uploads/2025/04/Princess-Party-Dance-Camp.jpg
END:VEVENT
BEGIN:VEVENT
DTSTART;TZID=America/New_York:20250609T123000
DTEND;TZID=America/New_York:20250613T153000
DTSTAMP:20260426T001626
CREATED:20250423T172216Z
LAST-MODIFIED:20250509T184443Z
UID:237694-1749472200-1749828600@aimdance.org
SUMMARY:Family Madrigal Fantasy Dance Camp
DESCRIPTION:Our Encanto Ballet Dance Camp offers a vibrant and fun experience inspired by the magical world of the Madrigal family! Campers will learn the basics of ballet while dancing to themed music and choreography from the beloved Encanto movie. Whether they are new to dance or have some experience\, each dancer will have the opportunity to grow and improve.\nEach day includes dance instruction\, a daily craft\, a snack period\, show rehearsal\, and outdoor play (weather permitting). At the end of the week\, campers will showcase everything they’ve learned in a special Encanto-themed performance.\nDancers should bring a snack\, water bottle\, and a positive attitude\, and please remember to label all belongings. Join us for a week of dance and magic\, as we celebrate the spirit of Encanto!
URL:https://aimdance.org/summer-event/family-madrigal-fantasy-dance-camp-2/
LOCATION:The Landon School\, 6101 Wilson Lane\, Bethesda\, MD\, 20817
ATTACH;FMTTYPE=image/jpeg:https://aimdance.org/wp-content/uploads/2025/04/Family-Madrigal-Fantasy-Dance-Camp.jpg
END:VEVENT
BEGIN:VEVENT
DTSTART;TZID=America/New_York:20250609T090000
DTEND;TZID=America/New_York:20250613T120000
DTSTAMP:20260426T001626
CREATED:20250423T172215Z
LAST-MODIFIED:20250509T184443Z
UID:237693-1749459600-1749816000@aimdance.org
SUMMARY:Adventure with Elsa and Anna Dance Camp
DESCRIPTION:Our Frozen Ballet Dance Camp is a magical experience where dancers can explore the enchanting world of Arendelle! Campers will learn the basics of ballet while enjoying themed music and choreography inspired by the beloved Frozen story. Whether they are new to dance or have some experience\, each dancer will have the chance to grow and learn while having a blast! Each day includes dance instruction\, a daily craft\, a snack period\, show rehearsal\, and outdoor play (weather permitting). At the end of the week\, campers will showcase everything they’ve learned in a special Frozen-themed performance.\nDancers should bring a snack\, water bottle\, and a positive attitude\, and please remember to label all belongings. Let’s bring the magic of Frozen to life through dance!
URL:https://aimdance.org/summer-event/adventure-with-elsa-and-anna-dance-camp-2/
LOCATION:The Landon School\, 6101 Wilson Lane\, Bethesda\, MD\, 20817
ATTACH;FMTTYPE=image/jpeg:https://aimdance.org/wp-content/uploads/2025/04/Adventures-with-Elsa-Anna.jpg
END:VEVENT
END:VCALENDAR