BEGIN:VCALENDAR
VERSION:2.0
PRODID:-//Art in Motion Dance - ECPv6.15.20//NONSGML v1.0//EN
CALSCALE:GREGORIAN
METHOD:PUBLISH
X-ORIGINAL-URL:https://aimdance.org
X-WR-CALDESC:Events for Art in Motion Dance
REFRESH-INTERVAL;VALUE=DURATION:PT1H
X-Robots-Tag:noindex
X-PUBLISHED-TTL:PT1H
BEGIN:VTIMEZONE
TZID:America/New_York
BEGIN:DAYLIGHT
TZOFFSETFROM:-0500
TZOFFSETTO:-0400
TZNAME:EDT
DTSTART:20250309T070000
END:DAYLIGHT
BEGIN:STANDARD
TZOFFSETFROM:-0400
TZOFFSETTO:-0500
TZNAME:EST
DTSTART:20251102T060000
END:STANDARD
BEGIN:DAYLIGHT
TZOFFSETFROM:-0500
TZOFFSETTO:-0400
TZNAME:EDT
DTSTART:20260308T070000
END:DAYLIGHT
BEGIN:STANDARD
TZOFFSETFROM:-0400
TZOFFSETTO:-0500
TZNAME:EST
DTSTART:20261101T060000
END:STANDARD
BEGIN:DAYLIGHT
TZOFFSETFROM:-0500
TZOFFSETTO:-0400
TZNAME:EDT
DTSTART:20270314T070000
END:DAYLIGHT
BEGIN:STANDARD
TZOFFSETFROM:-0400
TZOFFSETTO:-0500
TZNAME:EST
DTSTART:20271107T060000
END:STANDARD
END:VTIMEZONE
BEGIN:VEVENT
DTSTART;TZID=America/New_York:20260615T083000
DTEND;TZID=America/New_York:20260618T151500
DTSTAMP:20260425T212040
CREATED:20260324T183209Z
LAST-MODIFIED:20260324T183209Z
UID:238576-1781512200-1781795700@aimdance.org
SUMMARY:Magical World Of Dance
DESCRIPTION:Join us for a magical week of dance and fun with your favorite characters from around the world. Don’t miss the chance to twirl with Elsa and Anna in Arendale\, dance under the sea with Ariel and Sebastian\, or take a “ride” on a magic carpet with Aladdin and Jasmine. Dancers will listen to their favorite songs with Rapunzel\, Belle\, Peter Pan and all your all your cuddly favorites from Lion King. Don’t miss your chance to dance with all these characters and so many more.
URL:https://aimdance.org/summer-event/magical-world-of-dance-5/
LOCATION:Riverdale Country School\, 5250 Fieldston Rd\, Bronx\, NY\, 10471
ATTACH;FMTTYPE=image/jpeg:https://aimdance.org/wp-content/uploads/2026/03/Magical-World-of-Dance.jpg
END:VEVENT
END:VCALENDAR