BEGIN:VCALENDAR
VERSION:2.0
PRODID:-//Art in Motion Dance - ECPv6.15.20//NONSGML v1.0//EN
CALSCALE:GREGORIAN
METHOD:PUBLISH
X-ORIGINAL-URL:https://aimdance.org
X-WR-CALDESC:Events for Art in Motion Dance
REFRESH-INTERVAL;VALUE=DURATION:PT1H
X-Robots-Tag:noindex
X-PUBLISHED-TTL:PT1H
BEGIN:VTIMEZONE
TZID:America/New_York
BEGIN:DAYLIGHT
TZOFFSETFROM:-0500
TZOFFSETTO:-0400
TZNAME:EDT
DTSTART:20250309T070000
END:DAYLIGHT
BEGIN:STANDARD
TZOFFSETFROM:-0400
TZOFFSETTO:-0500
TZNAME:EST
DTSTART:20251102T060000
END:STANDARD
BEGIN:DAYLIGHT
TZOFFSETFROM:-0500
TZOFFSETTO:-0400
TZNAME:EDT
DTSTART:20260308T070000
END:DAYLIGHT
BEGIN:STANDARD
TZOFFSETFROM:-0400
TZOFFSETTO:-0500
TZNAME:EST
DTSTART:20261101T060000
END:STANDARD
BEGIN:DAYLIGHT
TZOFFSETFROM:-0500
TZOFFSETTO:-0400
TZNAME:EDT
DTSTART:20270314T070000
END:DAYLIGHT
BEGIN:STANDARD
TZOFFSETFROM:-0400
TZOFFSETTO:-0500
TZNAME:EST
DTSTART:20271107T060000
END:STANDARD
END:VTIMEZONE
BEGIN:VEVENT
DTSTART;TZID=America/New_York:20260727T083000
DTEND;TZID=America/New_York:20260731T151500
DTSTAMP:20260425T224231
CREATED:20260324T183109Z
LAST-MODIFIED:20260324T183230Z
UID:238556-1785141000-1785510900@aimdance.org
SUMMARY:K-Pop Kidz Dance
DESCRIPTION:Unleash Your Inner Hero! Get ready to move\, groove\, and power up in our K-Pop Dance Camp! This high-energy experience combines dynamic K-Pop choreography with an epic story of heroes\, battles\, and supernatural style. Campers will dance to popular K-Pop hits like “Golden”\, “Soda Pop”\, and more\, while mastering fierce moves. By week’s end\, they’ll take the stage in a thrilling group “battle” performance—showcasing unstoppable teamwork and star power. Join the ultimate K-Pop hero squad and dance like a star! In partnership with Art in Motion
URL:https://aimdance.org/summer-event/k-pop-kidz-dance-2/
LOCATION:The Gillman School\, 5407 Roland Ave\, Baltimore\, MD\, 21210
ATTACH;FMTTYPE=image/jpeg:https://aimdance.org/wp-content/uploads/2026/03/K-Pop-Kidz-Dance.jpg
END:VEVENT
BEGIN:VEVENT
DTSTART;TZID=America/New_York:20260727T083000
DTEND;TZID=America/New_York:20260731T151500
DTSTAMP:20260425T224231
CREATED:20260324T183212Z
LAST-MODIFIED:20260324T183212Z
UID:238577-1785141000-1785510900@aimdance.org
SUMMARY:Shake It Off Dance Camp
DESCRIPTION:Get ready to dance the week away to all your favorite Taylor Swift songs! A whole week dedicated to America’s favorite Popstar. Campers will learn dances to Taylor’s greatest hits including\, You Belong with Me\, Blank Space\, Love Story\, Shake it Off and songs from her most current album\, Life of a Showgirl. We will create Taylor- inspired crafts and end the week with an energy-filled performance that you won’t want to miss.
URL:https://aimdance.org/summer-event/shake-it-off-dance-camp-3/
LOCATION:Riverdale Country School\, 5250 Fieldston Rd\, Bronx\, NY\, 10471
ATTACH;FMTTYPE=image/jpeg:https://aimdance.org/wp-content/uploads/2026/03/Shake-It-Off-Dance-Camp.jpg
END:VEVENT
END:VCALENDAR