BEGIN:VCALENDAR
VERSION:2.0
PRODID:-//Art in Motion Dance - ECPv6.15.20//NONSGML v1.0//EN
CALSCALE:GREGORIAN
METHOD:PUBLISH
X-WR-CALNAME:Art in Motion Dance
X-ORIGINAL-URL:https://aimdance.org
X-WR-CALDESC:Events for Art in Motion Dance
REFRESH-INTERVAL;VALUE=DURATION:PT1H
X-Robots-Tag:noindex
X-PUBLISHED-TTL:PT1H
BEGIN:VTIMEZONE
TZID:America/New_York
BEGIN:DAYLIGHT
TZOFFSETFROM:-0500
TZOFFSETTO:-0400
TZNAME:EDT
DTSTART:20250309T070000
END:DAYLIGHT
BEGIN:STANDARD
TZOFFSETFROM:-0400
TZOFFSETTO:-0500
TZNAME:EST
DTSTART:20251102T060000
END:STANDARD
BEGIN:DAYLIGHT
TZOFFSETFROM:-0500
TZOFFSETTO:-0400
TZNAME:EDT
DTSTART:20260308T070000
END:DAYLIGHT
BEGIN:STANDARD
TZOFFSETFROM:-0400
TZOFFSETTO:-0500
TZNAME:EST
DTSTART:20261101T060000
END:STANDARD
BEGIN:DAYLIGHT
TZOFFSETFROM:-0500
TZOFFSETTO:-0400
TZNAME:EDT
DTSTART:20270314T070000
END:DAYLIGHT
BEGIN:STANDARD
TZOFFSETFROM:-0400
TZOFFSETTO:-0500
TZNAME:EST
DTSTART:20271107T060000
END:STANDARD
END:VTIMEZONE
BEGIN:VEVENT
DTSTART;TZID=America/New_York:20260803T093000
DTEND;TZID=America/New_York:20260807T123000
DTSTAMP:20260425T234803
CREATED:20260324T183142Z
LAST-MODIFIED:20260324T183142Z
UID:238567-1785749400-1786105800@aimdance.org
SUMMARY:Fairytale Forest/ Unicorn Magic Dance Camp
DESCRIPTION:This Art in Motion camp blends gentle movement\, imaginative play\, and whimsical storytelling in a magical dance experience. Perfect for first-time dancers and big dreamers alike\, this camp celebrates movement\, imagination\, and the beauty of being uniquely magical.
URL:https://aimdance.org/summer-event/fairytale-forest-unicorn-magic-dance-camp-2/
LOCATION:McLean Community Center\, 1234 Ingleside Ave\, McLean\, VA\, 22101
ATTACH;FMTTYPE=image/jpeg:https://aimdance.org/wp-content/uploads/2026/03/Fairytale-Forest_-Unicorn-Magic-Dance-Camp.jpg
END:VEVENT
END:VCALENDAR