BEGIN:VCALENDAR
VERSION:2.0
PRODID:-//Art in Motion Dance - ECPv6.15.20//NONSGML v1.0//EN
CALSCALE:GREGORIAN
METHOD:PUBLISH
X-WR-CALNAME:Art in Motion Dance
X-ORIGINAL-URL:https://aimdance.org
X-WR-CALDESC:Events for Art in Motion Dance
REFRESH-INTERVAL;VALUE=DURATION:PT1H
X-Robots-Tag:noindex
X-PUBLISHED-TTL:PT1H
BEGIN:VTIMEZONE
TZID:America/New_York
BEGIN:DAYLIGHT
TZOFFSETFROM:-0500
TZOFFSETTO:-0400
TZNAME:EDT
DTSTART:20250309T070000
END:DAYLIGHT
BEGIN:STANDARD
TZOFFSETFROM:-0400
TZOFFSETTO:-0500
TZNAME:EST
DTSTART:20251102T060000
END:STANDARD
BEGIN:DAYLIGHT
TZOFFSETFROM:-0500
TZOFFSETTO:-0400
TZNAME:EDT
DTSTART:20260308T070000
END:DAYLIGHT
BEGIN:STANDARD
TZOFFSETFROM:-0400
TZOFFSETTO:-0500
TZNAME:EST
DTSTART:20261101T060000
END:STANDARD
BEGIN:DAYLIGHT
TZOFFSETFROM:-0500
TZOFFSETTO:-0400
TZNAME:EDT
DTSTART:20270314T070000
END:DAYLIGHT
BEGIN:STANDARD
TZOFFSETFROM:-0400
TZOFFSETTO:-0500
TZNAME:EST
DTSTART:20271107T060000
END:STANDARD
END:VTIMEZONE
BEGIN:VEVENT
DTSTART;TZID=America/New_York:20260713T090000
DTEND;TZID=America/New_York:20260717T153000
DTSTAMP:20260425T234955
CREATED:20260324T183243Z
LAST-MODIFIED:20260324T183243Z
UID:238587-1783933200-1784302200@aimdance.org
SUMMARY:AIM Dance Fusion Camp & A Wicked Good Time Dance Camp
DESCRIPTION:Unleash the rhythm\, grace\, and sparkle of your young dancer in our energetic Dance Fusion Camp! This dynamic week blends jazz\, ballet\, tap\, and lyrical styles—encouraging movement mastery and artistic expression in a fun\, inspiring setting. Dancers will also enjoy themed crafts\, light improvisation\, and choreography games that spark imagination and teamwork. Camp culminates in a heartwarming showcase for families\, where each dancer gets a chance to shine under the lights! In the afternoon\, NEW! Step into a spellbinding world of music\, movement\, and magic at our Wicked Dance Camp—a bewitching blend of theatrical fun and powerful dance styles for kids ages 6 to 9! Inspired by the iconic tale of witches\, wonder\, and friendship\, this camp invites dancers to channel their inner Elphaba and Glinda through expressive choreography and imaginative play. The magical week wraps up with a dazzling showcase for families\, where campers twirl and whirl through a feelgood performance that celebrates bravery\, friendship\, and fierce dance talent. Instructor: Art In Motion Dance
URL:https://aimdance.org/summer-event/aim-dance-fusion-camp-a-wicked-good-time-dance-camp/
LOCATION:The Landon School\, 6101 Wilson Lane\, Bethesda\, MD\, 20817
ATTACH;FMTTYPE=image/jpeg:https://aimdance.org/wp-content/uploads/2026/03/AIM-Dance-Fusion-Camp-A-Wicked-Good-Time-Dance-Camp.jpg
END:VEVENT
END:VCALENDAR