BEGIN:VCALENDAR
VERSION:2.0
PRODID:-//Art in Motion Dance - ECPv6.15.20//NONSGML v1.0//EN
CALSCALE:GREGORIAN
METHOD:PUBLISH
X-WR-CALNAME:Art in Motion Dance
X-ORIGINAL-URL:https://aimdance.org
X-WR-CALDESC:Events for Art in Motion Dance
REFRESH-INTERVAL;VALUE=DURATION:PT1H
X-Robots-Tag:noindex
X-PUBLISHED-TTL:PT1H
BEGIN:VTIMEZONE
TZID:America/New_York
BEGIN:DAYLIGHT
TZOFFSETFROM:-0500
TZOFFSETTO:-0400
TZNAME:EDT
DTSTART:20250309T070000
END:DAYLIGHT
BEGIN:STANDARD
TZOFFSETFROM:-0400
TZOFFSETTO:-0500
TZNAME:EST
DTSTART:20251102T060000
END:STANDARD
BEGIN:DAYLIGHT
TZOFFSETFROM:-0500
TZOFFSETTO:-0400
TZNAME:EDT
DTSTART:20260308T070000
END:DAYLIGHT
BEGIN:STANDARD
TZOFFSETFROM:-0400
TZOFFSETTO:-0500
TZNAME:EST
DTSTART:20261101T060000
END:STANDARD
BEGIN:DAYLIGHT
TZOFFSETFROM:-0500
TZOFFSETTO:-0400
TZNAME:EDT
DTSTART:20270314T070000
END:DAYLIGHT
BEGIN:STANDARD
TZOFFSETFROM:-0400
TZOFFSETTO:-0500
TZNAME:EST
DTSTART:20271107T060000
END:STANDARD
END:VTIMEZONE
BEGIN:VEVENT
DTSTART;TZID=America/New_York:20260727T090000
DTEND;TZID=America/New_York:20260731T153000
DTSTAMP:20260425T234953
CREATED:20260324T183310Z
LAST-MODIFIED:20260324T183310Z
UID:238595-1785142800-1785511800@aimdance.org
SUMMARY:Shake It Off Dance Camp - Life of Taylor & Cheer and Tumbling Camp
DESCRIPTION:Get ready to dance the week away to all your favorite Taylor Swift songs! A whole week dedicated to America’s favorite Popstar. Campers will learn dances to Taylor’s greatest hits including\, You Belong with Me\, Blank Space\, Love Story\, Shake it Off and songs from her most current album\, Life of a Showgirl. We will create Taylor- inspired crafts and end the week with an energy-filled performance that you won’t want to miss. n the afternoon\, Rah! Rah! Rah! Your cheerleader will have the time of her life learning cheers\, motions\, chants\, drills\, stretches\, jumps and a high-energy cheer dance with pompoms. This fun week also features daily tumbling. Class focuses on the development of strength\, coordination and flexibility as well as mastering skills such as forward rolls\, cartwheels\, handstands\, bridges\, limbers and splits. Camp ends with a rockin’ spirit-filled Cheer Show! Instructor: Art In Motion Dance.
URL:https://aimdance.org/summer-event/shake-it-off-dance-camp-life-of-taylor-cheer-and-tumbling-camp-2/
LOCATION:The Landon School\, 6101 Wilson Lane\, Bethesda\, MD\, 20817
ATTACH;FMTTYPE=image/jpeg:https://aimdance.org/wp-content/uploads/2026/03/Shake-It-Off-Dance-Camp-Life-of-Taylor-Cheer-and-Tumbling-Camp.jpg
END:VEVENT
END:VCALENDAR