BEGIN:VCALENDAR
VERSION:2.0
PRODID:-//Art in Motion Dance - ECPv6.15.20//NONSGML v1.0//EN
CALSCALE:GREGORIAN
METHOD:PUBLISH
X-ORIGINAL-URL:https://aimdance.org
X-WR-CALDESC:Events for Art in Motion Dance
REFRESH-INTERVAL;VALUE=DURATION:PT1H
X-Robots-Tag:noindex
X-PUBLISHED-TTL:PT1H
BEGIN:VTIMEZONE
TZID:America/New_York
BEGIN:DAYLIGHT
TZOFFSETFROM:-0500
TZOFFSETTO:-0400
TZNAME:EDT
DTSTART:20250309T070000
END:DAYLIGHT
BEGIN:STANDARD
TZOFFSETFROM:-0400
TZOFFSETTO:-0500
TZNAME:EST
DTSTART:20251102T060000
END:STANDARD
BEGIN:DAYLIGHT
TZOFFSETFROM:-0500
TZOFFSETTO:-0400
TZNAME:EDT
DTSTART:20260308T070000
END:DAYLIGHT
BEGIN:STANDARD
TZOFFSETFROM:-0400
TZOFFSETTO:-0500
TZNAME:EST
DTSTART:20261101T060000
END:STANDARD
BEGIN:DAYLIGHT
TZOFFSETFROM:-0500
TZOFFSETTO:-0400
TZNAME:EDT
DTSTART:20270314T070000
END:DAYLIGHT
BEGIN:STANDARD
TZOFFSETFROM:-0400
TZOFFSETTO:-0500
TZNAME:EST
DTSTART:20271107T060000
END:STANDARD
END:VTIMEZONE
BEGIN:VEVENT
DTSTART;TZID=America/New_York:20260622T130000
DTEND;TZID=America/New_York:20260626T160000
DTSTAMP:20260425T171901
CREATED:20260324T183158Z
LAST-MODIFIED:20260324T183158Z
UID:238573-1782133200-1782489600@aimdance.org
SUMMARY:Rapunzels Tangled Dance Adventure Camp
DESCRIPTION:Join Rapunzel in this dance adventure camp! The adventure continues along with Flynn\, Maximus and Pascal. The adventure is filled with magical songs and dancing from the hit movie and TV series\, activities\, crafts\, costumes and props. We will discover all the magic and adventures in the land of Corona in this thrilling dance camp. Instructor: Art In Motion Dance
URL:https://aimdance.org/summer-event/rapunzels-tangled-dance-adventure-camp/
LOCATION:McLean Community Center\, 1234 Ingleside Ave\, McLean\, VA\, 22101
ATTACH;FMTTYPE=image/jpeg:https://aimdance.org/wp-content/uploads/2026/03/Rapunzels-Tangled-Dance-Adventure-Camp.jpg
END:VEVENT
END:VCALENDAR