BEGIN:VCALENDAR
VERSION:2.0
PRODID:-//Art in Motion Dance - ECPv6.15.20//NONSGML v1.0//EN
CALSCALE:GREGORIAN
METHOD:PUBLISH
X-ORIGINAL-URL:https://aimdance.org
X-WR-CALDESC:Events for Art in Motion Dance
REFRESH-INTERVAL;VALUE=DURATION:PT1H
X-Robots-Tag:noindex
X-PUBLISHED-TTL:PT1H
BEGIN:VTIMEZONE
TZID:America/New_York
BEGIN:DAYLIGHT
TZOFFSETFROM:-0500
TZOFFSETTO:-0400
TZNAME:EDT
DTSTART:20250309T070000
END:DAYLIGHT
BEGIN:STANDARD
TZOFFSETFROM:-0400
TZOFFSETTO:-0500
TZNAME:EST
DTSTART:20251102T060000
END:STANDARD
BEGIN:DAYLIGHT
TZOFFSETFROM:-0500
TZOFFSETTO:-0400
TZNAME:EDT
DTSTART:20260308T070000
END:DAYLIGHT
BEGIN:STANDARD
TZOFFSETFROM:-0400
TZOFFSETTO:-0500
TZNAME:EST
DTSTART:20261101T060000
END:STANDARD
BEGIN:DAYLIGHT
TZOFFSETFROM:-0500
TZOFFSETTO:-0400
TZNAME:EDT
DTSTART:20270314T070000
END:DAYLIGHT
BEGIN:STANDARD
TZOFFSETFROM:-0400
TZOFFSETTO:-0500
TZNAME:EST
DTSTART:20271107T060000
END:STANDARD
END:VTIMEZONE
BEGIN:VEVENT
DTSTART;TZID=America/New_York:20260629T090000
DTEND;TZID=America/New_York:20260702T153000
DTSTAMP:20260425T211953
CREATED:20260324T183244Z
LAST-MODIFIED:20260324T183244Z
UID:238588-1782723600-1783006200@aimdance.org
SUMMARY:Broadway Bound & Popstar Hip Hop Camp
DESCRIPTION:Cue the curtain and spotlight—it’s time to shine in our Broadway Bound Dance Camp! This camp celebrates the magic of musical theatre through high-energy dance\, dramatic flair\, and endless fun. Campers will wrap up the week with a sparkling showcase for families—featuring mini routines from beloved musicals where every dancer plays a starring role. Lights\, camera\, dance! In the afternoon\, step into the spotlight at our Popstar Dance Camp\, where campers learn to move\, groove\, and perform like the stars they were born to be. This energetic and confidence-boosting camp blends pop-inspired choreography with big stage personality in a fun\, kid-friendly setting. The week ends with a sparkling showcase where every camper gets to shine in the spotlight—complete with costumes\, cheers\, and plenty of “paparazzi” (AKA proud family members).
URL:https://aimdance.org/summer-event/broadway-bound-popstar-hip-hop-camp/
LOCATION:The Landon School\, 6101 Wilson Lane\, Bethesda\, MD\, 20817
ATTACH;FMTTYPE=image/jpeg:https://aimdance.org/wp-content/uploads/2026/03/Broadway-Bound-Popstar-Hip-Hop-Camp.jpg
END:VEVENT
END:VCALENDAR