BEGIN:VCALENDAR
VERSION:2.0
PRODID:-//Art in Motion Dance - ECPv6.15.20//NONSGML v1.0//EN
CALSCALE:GREGORIAN
METHOD:PUBLISH
X-WR-CALNAME:Art in Motion Dance
X-ORIGINAL-URL:https://aimdance.org
X-WR-CALDESC:Events for Art in Motion Dance
REFRESH-INTERVAL;VALUE=DURATION:PT1H
X-Robots-Tag:noindex
X-PUBLISHED-TTL:PT1H
BEGIN:VTIMEZONE
TZID:America/New_York
BEGIN:DAYLIGHT
TZOFFSETFROM:-0500
TZOFFSETTO:-0400
TZNAME:EDT
DTSTART:20250309T070000
END:DAYLIGHT
BEGIN:STANDARD
TZOFFSETFROM:-0400
TZOFFSETTO:-0500
TZNAME:EST
DTSTART:20251102T060000
END:STANDARD
BEGIN:DAYLIGHT
TZOFFSETFROM:-0500
TZOFFSETTO:-0400
TZNAME:EDT
DTSTART:20260308T070000
END:DAYLIGHT
BEGIN:STANDARD
TZOFFSETFROM:-0400
TZOFFSETTO:-0500
TZNAME:EST
DTSTART:20261101T060000
END:STANDARD
BEGIN:DAYLIGHT
TZOFFSETFROM:-0500
TZOFFSETTO:-0400
TZNAME:EDT
DTSTART:20270314T070000
END:DAYLIGHT
BEGIN:STANDARD
TZOFFSETFROM:-0400
TZOFFSETTO:-0500
TZNAME:EST
DTSTART:20271107T060000
END:STANDARD
END:VTIMEZONE
BEGIN:VEVENT
DTSTART;TZID=America/New_York:20260805T090000
DTEND;TZID=America/New_York:20260807T120000
DTSTAMP:20260425T222844
CREATED:20260324T183245Z
LAST-MODIFIED:20260324T183245Z
UID:238589-1785920400-1786104000@aimdance.org
SUMMARY:Encanto Dance Camp
DESCRIPTION:Join us for this Magical new dance camp as we dance the week away with Mirabel\, Isabela\, Luisa\, Dolores and of course\, Bruno! Along the way\, campers will love dancing to all their favorite Encanto music\, dressing up like all their favorite characters\, creating adorable crafts and making new friends! A final performance on Friday will give your little dancer a chance to show off all of their hard work and all the new cool moves they learned in camp this week! Instructor: Art In Motion Dance.
URL:https://aimdance.org/summer-event/encanto-dance-camp-2/
LOCATION:The Landon School\, 6101 Wilson Lane\, Bethesda\, MD\, 20817
ATTACH;FMTTYPE=image/jpeg:https://aimdance.org/wp-content/uploads/2026/03/Encanto-Dance-Camp.jpg
END:VEVENT
BEGIN:VEVENT
DTSTART;TZID=America/New_York:20260806T123000
DTEND;TZID=America/New_York:20260807T153000
DTSTAMP:20260425T222844
CREATED:20260324T183254Z
LAST-MODIFIED:20260324T183254Z
UID:238590-1786019400-1786116600@aimdance.org
SUMMARY:Fairytale Forest/ Unicorn Magic Dance Camp
DESCRIPTION:This Art in Motion camp blends gentle movement\, imaginative play\, and whimsical storytelling in a magical dance experience. Perfect for first-time dancers and big dreamers alike\, this camp celebrates movement\, imagination\, and the beauty of being uniquely magical.
URL:https://aimdance.org/summer-event/fairytale-forest-unicorn-magic-dance-camp-4/
LOCATION:The Landon School\, 6101 Wilson Lane\, Bethesda\, MD\, 20817
ATTACH;FMTTYPE=image/jpeg:https://aimdance.org/wp-content/uploads/2026/03/Fairytale-Forest_-Unicorn-Magic-Dance-Camp.jpg
END:VEVENT
END:VCALENDAR